BEGIN:VCALENDAR
VERSION:2.0
PRODID:-//Center for Nonviolent Solutions - ECPv6.15.20//NONSGML v1.0//EN
CALSCALE:GREGORIAN
METHOD:PUBLISH
X-ORIGINAL-URL:https://www.nonviolentsolutions.org
X-WR-CALDESC:Events for Center for Nonviolent Solutions
REFRESH-INTERVAL;VALUE=DURATION:PT1H
X-Robots-Tag:noindex
X-PUBLISHED-TTL:PT1H
BEGIN:VTIMEZONE
TZID:America/New_York
BEGIN:DAYLIGHT
TZOFFSETFROM:-0500
TZOFFSETTO:-0400
TZNAME:EDT
DTSTART:20220313T070000
END:DAYLIGHT
BEGIN:STANDARD
TZOFFSETFROM:-0400
TZOFFSETTO:-0500
TZNAME:EST
DTSTART:20221106T060000
END:STANDARD
BEGIN:DAYLIGHT
TZOFFSETFROM:-0500
TZOFFSETTO:-0400
TZNAME:EDT
DTSTART:20230312T070000
END:DAYLIGHT
BEGIN:STANDARD
TZOFFSETFROM:-0400
TZOFFSETTO:-0500
TZNAME:EST
DTSTART:20231105T060000
END:STANDARD
BEGIN:DAYLIGHT
TZOFFSETFROM:-0500
TZOFFSETTO:-0400
TZNAME:EDT
DTSTART:20240310T070000
END:DAYLIGHT
BEGIN:STANDARD
TZOFFSETFROM:-0400
TZOFFSETTO:-0500
TZNAME:EST
DTSTART:20241103T060000
END:STANDARD
END:VTIMEZONE
BEGIN:VEVENT
DTSTART;TZID=America/New_York:20231015T140000
DTEND;TZID=America/New_York:20231015T153000
DTSTAMP:20260422T223542
CREATED:20231008T131605Z
LAST-MODIFIED:20231008T131605Z
UID:9341-1697378400-1697383800@www.nonviolentsolutions.org
SUMMARY:Walking Tour of Worcester's Peace History
DESCRIPTION:This unique tour celebrates some of the city’s many peacemaking forebearers. Come learn about the strategic peace of Massasoit\, Great Sachem of Wampanoag peoples. Meet the Black laborer whose case ended slavery in Massachusetts. Hear the stirring speeches of abolitionists and advocates for the rights of women and immigrants. Dramatic re-enactments and audience participation make for a lively as well as informative tour along Worcesters’ Main Street. Walk starts at Lincoln Square and finishes at City Hall. Approximately 1.5 hours. Comfortable walking footwear recommend. Parking available in lot across from Worcester Auditorium. \nProgram is free\, but donations are gratefully accepted.
URL:https://www.nonviolentsolutions.org/event/walking-tour-of-worcesters-peace-history/
END:VEVENT
END:VCALENDAR