BEGIN:VCALENDAR
VERSION:2.0
PRODID:-//Center for Nonviolent Solutions - ECPv6.15.20//NONSGML v1.0//EN
CALSCALE:GREGORIAN
METHOD:PUBLISH
X-ORIGINAL-URL:https://www.nonviolentsolutions.org
X-WR-CALDESC:Events for Center for Nonviolent Solutions
REFRESH-INTERVAL;VALUE=DURATION:PT1H
X-Robots-Tag:noindex
X-PUBLISHED-TTL:PT1H
BEGIN:VTIMEZONE
TZID:America/New_York
BEGIN:DAYLIGHT
TZOFFSETFROM:-0500
TZOFFSETTO:-0400
TZNAME:EDT
DTSTART:20240310T070000
END:DAYLIGHT
BEGIN:STANDARD
TZOFFSETFROM:-0400
TZOFFSETTO:-0500
TZNAME:EST
DTSTART:20241103T060000
END:STANDARD
BEGIN:DAYLIGHT
TZOFFSETFROM:-0500
TZOFFSETTO:-0400
TZNAME:EDT
DTSTART:20250309T070000
END:DAYLIGHT
BEGIN:STANDARD
TZOFFSETFROM:-0400
TZOFFSETTO:-0500
TZNAME:EST
DTSTART:20251102T060000
END:STANDARD
BEGIN:DAYLIGHT
TZOFFSETFROM:-0500
TZOFFSETTO:-0400
TZNAME:EDT
DTSTART:20260308T070000
END:DAYLIGHT
BEGIN:STANDARD
TZOFFSETFROM:-0400
TZOFFSETTO:-0500
TZNAME:EST
DTSTART:20261101T060000
END:STANDARD
END:VTIMEZONE
BEGIN:VEVENT
DTSTART;TZID=America/New_York:20251009T183000
DTEND;TZID=America/New_York:20251009T200000
DTSTAMP:20260419T114416
CREATED:20251008T182202Z
LAST-MODIFIED:20251008T182909Z
UID:9752-1760034600-1760040000@www.nonviolentsolutions.org
SUMMARY:Readings from Block Island: Poems\, Photos and Letters by Dan Berrigan
DESCRIPTION:Join us for a celebration of Block Island a new collection of poems\, photos and letters by Daniel Berrigan\, American Jesuit priest\, anti-war activist\, pacifist\, and writer. \nThursday\, October 9\, 2025 \n6:30-8:00 p.m. \nSalisbury House/61 Harvard Street\, Worcester\, MA \nFree and open to the public
URL:https://www.nonviolentsolutions.org/event/readings-from-block-island-poems-photos-and-letters-by-dan-berrigan/
END:VEVENT
END:VCALENDAR