BEGIN:VCALENDAR
VERSION:2.0
PRODID:-//Center for Nonviolent Solutions - ECPv6.15.20//NONSGML v1.0//EN
CALSCALE:GREGORIAN
METHOD:PUBLISH
X-WR-CALNAME:Center for Nonviolent Solutions
X-ORIGINAL-URL:https://www.nonviolentsolutions.org
X-WR-CALDESC:Events for Center for Nonviolent Solutions
REFRESH-INTERVAL;VALUE=DURATION:PT1H
X-Robots-Tag:noindex
X-PUBLISHED-TTL:PT1H
BEGIN:VTIMEZONE
TZID:America/New_York
BEGIN:DAYLIGHT
TZOFFSETFROM:-0500
TZOFFSETTO:-0400
TZNAME:EDT
DTSTART:20240310T070000
END:DAYLIGHT
BEGIN:STANDARD
TZOFFSETFROM:-0400
TZOFFSETTO:-0500
TZNAME:EST
DTSTART:20241103T060000
END:STANDARD
BEGIN:DAYLIGHT
TZOFFSETFROM:-0500
TZOFFSETTO:-0400
TZNAME:EDT
DTSTART:20250309T070000
END:DAYLIGHT
BEGIN:STANDARD
TZOFFSETFROM:-0400
TZOFFSETTO:-0500
TZNAME:EST
DTSTART:20251102T060000
END:STANDARD
BEGIN:DAYLIGHT
TZOFFSETFROM:-0500
TZOFFSETTO:-0400
TZNAME:EDT
DTSTART:20260308T070000
END:DAYLIGHT
BEGIN:STANDARD
TZOFFSETFROM:-0400
TZOFFSETTO:-0500
TZNAME:EST
DTSTART:20261101T060000
END:STANDARD
END:VTIMEZONE
BEGIN:VEVENT
DTSTART;TZID=America/New_York:20250922T173000
DTEND;TZID=America/New_York:20250922T193000
DTSTAMP:20260419T114334
CREATED:20250908T162050Z
LAST-MODIFIED:20250911T030526Z
UID:9611-1758562200-1758569400@www.nonviolentsolutions.org
SUMMARY:Versus Violence Gaza Poets Society Fundraiser and Reading
DESCRIPTION:Join us for a communal reading of poetry from Gaza. \nMonday\, September 22: 5:30 – 7:30 p.m. \nPeace Park located at the corner of Pleasant Street and Winslow Streets\, Worcester\, MA  \nRain venue: Phelan Center/Blessed Sacrament Church 551 Pleasant Street\, Worcester\, MA  \n \n  \nRegister here
URL:https://www.nonviolentsolutions.org/event/versus-violence-gaza-poets-society-fundraiser-and-reading/
ORGANIZER;CN="Center For Nonviolent Solutions":MAILTO:inquiry@nonviolentsolutions.org
END:VEVENT
BEGIN:VEVENT
DTSTART;TZID=America/New_York:20250923T163000
DTEND;TZID=America/New_York:20250923T180000
DTSTAMP:20260419T114334
CREATED:20250911T024323Z
LAST-MODIFIED:20250911T024619Z
UID:9712-1758645000-1758650400@www.nonviolentsolutions.org
SUMMARY:Which Risks? What Threat? Nuclear Weapons 80 Years After Hiroshima and Nagasaki
DESCRIPTION:With tensions heightening across the world\, nuclear weapons are no longer a Cold War relic. Come hear a distinguished panel of experts speak about nuclear-affected communities\, the gendered consequences of nuclear weapons\, and the path forward in our nuclear threatened world. 4:30 p.m. Rehm Library\, Smith Hall\, College of the Holy Cross. \n  \nScreenshot
URL:https://www.nonviolentsolutions.org/event/which-risks-what-threat-nuclear-weapons-80-years-after-hiroshima-and-nagasaki/
END:VEVENT
BEGIN:VEVENT
DTSTART;TZID=America/New_York:20250925T180000
DTEND;TZID=America/New_York:20250925T200000
DTSTAMP:20260419T114334
CREATED:20250911T022552Z
LAST-MODIFIED:20250911T022657Z
UID:9707-1758823200-1758830400@www.nonviolentsolutions.org
SUMMARY:Peace Meal - Way of Nonviolence Fall Fundraiser
DESCRIPTION:Air Force C.O. Joy Metzler is the featured speaker at the Center for Nonviolent Solutions fall fundraiser. Join us for a Peace Meal\, music\, and Joy’s inspiring story of resistance to US support for the Israel’s genocide in Gaza. \nPhelan Center\, Blessed Sacrament Church 551 Pleasant Street\, Worcester\, MA  \n$25.00 requested donation. No one turned away for lack of funds. Tickets available here \n 
URL:https://www.nonviolentsolutions.org/event/peace-meal/
ORGANIZER;CN="Center For Nonviolent Solutions":MAILTO:inquiry@nonviolentsolutions.org
END:VEVENT
END:VCALENDAR